BEGIN:VCALENDAR
VERSION:2.0
PRODID:-//Intand Corporation//Tandem//EN
METHOD:PUBLISH
BEGIN:VEVENT
DTSTAMP:20260423T072128Z
DTSTART:20260511T223000Z
DTEND:20260511T233000Z
TRANSP:TRANSPARENT
PRIORITY:0
SUMMARY:JH 8th Grade Night at the Musuem
LOCATION:Seminole JH
DESCRIPTION:Groups:\nSeminole JH Grade 8\n\nSchools:\nSeminole JH\n\nLocat
 ion:\nSeminole JH\n\n
URL;VALUE=URI:https://seminoleisd.tandem.co/index.php?type=view&action=eve
 nt&id=50151
CREATED:20260422T155048Z
LAST-MODIFIED:20260422T155048Z
UID:event-50151-seminoleisd@intand.com
END:VEVENT
END:VCALENDAR
