BEGIN:VCALENDAR
VERSION:2.0
PRODID:-//Intand Corporation//Tandem//EN
METHOD:PUBLISH
BEGIN:VEVENT
DTSTAMP:20260422T202707Z
DTSTART:20260501T190000Z
DTEND:20260501T210000Z
TRANSP:TRANSPARENT
PRIORITY:0
SUMMARY:HS Baseball Varsity Bi-District Championship
LOCATION:Plainview High School Baseball Field
DESCRIPTION:vs West Plains\; Thursday\, April 30th at 6:00 pm (Game 1) and
  Friday\, May 1st at 2:00 pm (Game 2). Game 3\, if necessary\, will be pla
 yed 30 minutes following game 2.\n\n\nGroups:\nSeminole HS Baseball Varsit
 y\n\nSchools:\nSeminole HS\n\nLocation:\nPlainview High School Baseball Fi
 eld\n\n
X-ALT-DESC;FMTTYPE=text/html:<!doctype html><html><body>vs West Plains\; <
 span>Thursday\, April 30th at 6:00 pm (Game 1) and Friday\, May 1st at 2:0
 0 pm (Game 2). Game 3\, if necessary\, will be played 30 minutes following
  game 2.</span><br /><br />Groups:<br />Seminole HS Baseball Varsity<br />
 <br />Schools:<br />Seminole HS<br /><br />Location:<br />Plainview High S
 chool Baseball Field<br /></body></html>
URL;VALUE=URI:http://hs.seminoleisd.tandem.co/index.php?type=view&action=e
 vent&id=50150
CREATED:20260422T153540Z
LAST-MODIFIED:20260422T153540Z
UID:event-50150-seminoleisd@intand.com
END:VEVENT
END:VCALENDAR
