BEGIN:VCALENDAR
VERSION:2.0
PRODID:-//Intand Corporation//Tandem//EN
METHOD:PUBLISH
BEGIN:VEVENT
DTSTAMP:20260423T072301Z
DTSTART:20260512T130000Z
DTEND:20260512T210000Z
TRANSP:TRANSPARENT
PRIORITY:0
SUMMARY:JH Algebra 1 Students TSI
LOCATION:Seminole JH
DESCRIPTION:Schools:\nSeminole JH\n\nLocation:\nSeminole JH\n\n
URL;VALUE=URI:https://seminoleisd.tandem.co/index.php?type=view&action=eve
 nt&id=49763
CREATED:20260304T191231Z
LAST-MODIFIED:20260304T191231Z
UID:event-49763-seminoleisd@intand.com
END:VEVENT
END:VCALENDAR
